BEGIN:VCALENDAR
VERSION:2.0
PRODID:-//Plone.org//NONSGML plone.app.event//EN
X-WR-TIMEZONE:Brazil/East
BEGIN:VEVENT
SUMMARY:REUNIÃO DE TRABALHO PARA A "II CAMINHADA PELO FIM DA VIOLÊNCIA C
 ONTRA A MULHER"
DTSTART;TZID=Brazil/East;VALUE=DATE-TIME:20190312T180000
DTEND;TZID=Brazil/East;VALUE=DATE-TIME:20190312T190000
DTSTAMP;VALUE=DATE-TIME:20260424T204924Z
UID:2eba177f48f44ff69d70c41eade5ae4b@www.goiania.go.leg.br
CONTACT:VEREADORA LÉIA KLEBIA
CREATED;VALUE=DATE-TIME:20190312T124635Z
LAST-MODIFIED;VALUE=DATE-TIME:20190312T124711Z
LOCATION:SALA DE REUNIÃO DAS COMISSÕES
URL:https://www.goiania.go.leg.br/sala-de-imprensa/eventos/reuniao-de-trab
 alho-para-a-ii-caminhada-pelo-fim-da-violencia-contra-a-mulher
END:VEVENT
BEGIN:VTIMEZONE
TZID:Brazil/East
X-LIC-LOCATION:Brazil/East
BEGIN:STANDARD
DTSTART;VALUE=DATE-TIME:20190216T230000
TZNAME:BRT
TZOFFSETFROM:-0200
TZOFFSETTO:-0300
END:STANDARD
END:VTIMEZONE
END:VCALENDAR
