BEGIN:VCALENDAR
VERSION:2.0
PRODID:-//Plone.org//NONSGML plone.app.event//EN
X-WR-TIMEZONE:Brazil/East
BEGIN:VEVENT
SUMMARY:REUNIÃO DE TRABALHO COM OS MEMBROS DA COMUNIDADE.
DTSTART;TZID=Brazil/East;VALUE=DATE-TIME:20180324T080000
DTEND;TZID=Brazil/East;VALUE=DATE-TIME:20180324T120000
DTSTAMP;VALUE=DATE-TIME:20260426T005219Z
UID:5b7afad4b8644504ada3e6a548ae7518@www.goiania.go.leg.br
CONTACT:VEREADOR JAIR DIAMANTINO
CREATED;VALUE=DATE-TIME:20180314T132429Z
LAST-MODIFIED;VALUE=DATE-TIME:20180314T132435Z
LOCATION:AUDITÓRIO CARLOS EURICO
URL:https://www.goiania.go.leg.br/sala-de-imprensa/eventos/reuniao-de-trab
 alho-com-os-membros-da-comunidade
END:VEVENT
BEGIN:VTIMEZONE
TZID:Brazil/East
X-LIC-LOCATION:Brazil/East
BEGIN:STANDARD
DTSTART;VALUE=DATE-TIME:20180217T230000
TZNAME:BRT
TZOFFSETFROM:-0200
TZOFFSETTO:-0300
END:STANDARD
END:VTIMEZONE
END:VCALENDAR
