BEGIN:VCALENDAR
VERSION:2.0
PRODID:-//Plone.org//NONSGML plone.app.event//EN
X-WR-TIMEZONE:Brazil/East
BEGIN:VEVENT
SUMMARY:REUNIÃO DE TRABALHO COM A EQUIPE.
DTSTART;TZID=Brazil/East;VALUE=DATE-TIME:20250614T080000
DTEND;TZID=Brazil/East;VALUE=DATE-TIME:20250614T120000
DTSTAMP;VALUE=DATE-TIME:20260420T143131Z
UID:3eab924a1d3c403eac41b9ad66405078@www.goiania.go.leg.br
CONTACT:VEREADOR JUAREZ LOPES
CREATED;VALUE=DATE-TIME:20250509T113152Z
LAST-MODIFIED;VALUE=DATE-TIME:20250509T113209Z
LOCATION:AUDITÓRIO CARLOS EURICO
URL:https://www.goiania.go.leg.br/sala-de-imprensa/eventos/reuniao-de-trab
 alho-com-a-equipe
END:VEVENT
BEGIN:VTIMEZONE
TZID:Brazil/East
X-LIC-LOCATION:Brazil/East
BEGIN:STANDARD
DTSTART;VALUE=DATE-TIME:20250215T230000
TZNAME:BRT
TZOFFSETFROM:-0200
TZOFFSETTO:-0300
END:STANDARD
END:VTIMEZONE
END:VCALENDAR
