BEGIN:VCALENDAR
VERSION:2.0
PRODID:-//Plone.org//NONSGML plone.app.event//EN
X-WR-TIMEZONE:Brazil/East
BEGIN:VEVENT
SUMMARY:REUNIÃO DE PLANEJAMENTO DO PROJETO POLITIZAR GYN - 2026.
DTSTART;TZID=Brazil/East;VALUE=DATE-TIME:20260225T080000
DTEND;TZID=Brazil/East;VALUE=DATE-TIME:20260225T120000
DTSTAMP;VALUE=DATE-TIME:20260419T174203Z
UID:b5caa927f12b44cdbf3838e4c6a3e50e@www.goiania.go.leg.br
CONTACT:COORDENADORIA DA ESCOLA LEGISLATIVA
CREATED;VALUE=DATE-TIME:20260223T132032Z
LAST-MODIFIED;VALUE=DATE-TIME:20260223T132113Z
LOCATION:SALA DE REUNIÕES DO VEREADOR FÁBIO CAIXETA
URL:https://www.goiania.go.leg.br/sala-de-imprensa/eventos/reuniao-de-plan
 ejamento-do-projeto-politizar-gyn-2026
END:VEVENT
BEGIN:VTIMEZONE
TZID:Brazil/East
X-LIC-LOCATION:Brazil/East
BEGIN:STANDARD
DTSTART;VALUE=DATE-TIME:20260221T230000
TZNAME:BRT
TZOFFSETFROM:-0200
TZOFFSETTO:-0300
END:STANDARD
END:VTIMEZONE
END:VCALENDAR
