BEGIN:VCALENDAR
VERSION:2.0
PRODID:-//Plone.org//NONSGML plone.app.event//EN
X-WR-TIMEZONE:Brazil/East
BEGIN:VEVENT
SUMMARY:REUNIÃO DE PLANEJAMENTO DO PROGRAMA DE DESENVOLVIMENTO DOS ESPORT
 ES.
DTSTART;TZID=Brazil/East;VALUE=DATE-TIME:20241219T080000
DTEND;TZID=Brazil/East;VALUE=DATE-TIME:20241220T130000
DTSTAMP;VALUE=DATE-TIME:20260420T225447Z
UID:b0594abe99724677860216051538011f@www.goiania.go.leg.br
CONTACT:ROMÁRIO POLICARPO
CREATED;VALUE=DATE-TIME:20241218T121208Z
LAST-MODIFIED;VALUE=DATE-TIME:20241218T121221Z
LOCATION:AUDITÓRIO CARLOS EURICO
URL:https://www.goiania.go.leg.br/sala-de-imprensa/eventos/reuniao-de-plan
 ejamento-do-programa-de-desenvolvimento-dos-esportes
END:VEVENT
BEGIN:VTIMEZONE
TZID:Brazil/East
X-LIC-LOCATION:Brazil/East
BEGIN:DAYLIGHT
DTSTART;VALUE=DATE-TIME:20241020T010000
TZNAME:BRST
TZOFFSETFROM:-0300
TZOFFSETTO:-0200
END:DAYLIGHT
END:VTIMEZONE
END:VCALENDAR
