BEGIN:VCALENDAR
VERSION:2.0
PRODID:-//Plone.org//NONSGML plone.app.event//EN
X-WR-TIMEZONE:Brazil/East
BEGIN:VEVENT
SUMMARY:REUNIÃO DE MANDATO DO VEREADOR CARLOS SOARES.
DTSTART;TZID=Brazil/East;VALUE=DATE-TIME:20160810T140000
DTEND;TZID=Brazil/East;VALUE=DATE-TIME:20160810T160000
DTSTAMP;VALUE=DATE-TIME:20260425T205001Z
UID:6634d4a4e5e4401eae105ff5a3f0751c@www.goiania.go.leg.br
CONTACT:SALA DE REUNIÕES DAS COMISSÕES
CREATED;VALUE=DATE-TIME:20171208T111312Z
LAST-MODIFIED;VALUE=DATE-TIME:20171208T112923Z
LOCATION:VEREADOR CARLOS SOARES
URL:https://www.goiania.go.leg.br/sala-de-imprensa/eventos/reuniao-de-mand
 ato-do-vereador-carlos-soares
END:VEVENT
BEGIN:VTIMEZONE
TZID:Brazil/East
X-LIC-LOCATION:Brazil/East
BEGIN:STANDARD
DTSTART;VALUE=DATE-TIME:20160220T230000
TZNAME:BRT
TZOFFSETFROM:-0200
TZOFFSETTO:-0300
END:STANDARD
END:VTIMEZONE
END:VCALENDAR
