BEGIN:VCALENDAR
VERSION:2.0
PRODID:-//Plone.org//NONSGML plone.app.event//EN
X-WR-TIMEZONE:Brazil/East
BEGIN:VEVENT
SUMMARY:REUNIÃO DE LANÇAMENTO DE CAMPANHA COM (CFESS) CONSELHO FEDERAL D
 E SERVIÇO SOCIAL E (CRESS) CONSELHO REGIONAL DE SERVIÇO SOCIAL.
DTSTART;TZID=Brazil/East;VALUE=DATE-TIME:20230210T180000
DTEND;TZID=Brazil/East;VALUE=DATE-TIME:20230210T220000
DTSTAMP;VALUE=DATE-TIME:20260419T133312Z
UID:7d2f985022f5433b827a0bc999bf1043@www.goiania.go.leg.br
CONTACT:VEREADOR IGOR FRANCO
CREATED;VALUE=DATE-TIME:20230207T144856Z
LAST-MODIFIED;VALUE=DATE-TIME:20230210T115855Z
LOCATION:AUDITÓRIO CARLOS EURICO
URL:https://www.goiania.go.leg.br/sala-de-imprensa/eventos/reuniao-de-lanc
 amento-de-campanha-com-cfess-conselho-federal-de-servico-social-e-cress-co
 nselho-regional-de-servico-social
END:VEVENT
BEGIN:VTIMEZONE
TZID:Brazil/East
X-LIC-LOCATION:Brazil/East
BEGIN:DAYLIGHT
DTSTART;VALUE=DATE-TIME:20221016T010000
TZNAME:BRST
TZOFFSETFROM:-0300
TZOFFSETTO:-0200
END:DAYLIGHT
END:VTIMEZONE
END:VCALENDAR
