BEGIN:VCALENDAR
VERSION:2.0
PRODID:-//Plone.org//NONSGML plone.app.event//EN
X-WR-TIMEZONE:Brazil/East
BEGIN:VEVENT
SUMMARY:REUNIÃO DE GABINETE.
DTSTART;TZID=Brazil/East;VALUE=DATE-TIME:20230918T140000
DTEND;TZID=Brazil/East;VALUE=DATE-TIME:20230918T180000
DTSTAMP;VALUE=DATE-TIME:20260419T161902Z
UID:ca7b6404a621400684538c512788783b@www.goiania.go.leg.br
CONTACT:VEREADORA SABRINA GARCEZ
CREATED;VALUE=DATE-TIME:20230905T123522Z
LAST-MODIFIED;VALUE=DATE-TIME:20230905T123751Z
LOCATION:AUDITÓRIO CARLOS EURICO
URL:https://www.goiania.go.leg.br/sala-de-imprensa/eventos/reuniao-de-gabi
 nete-2
END:VEVENT
BEGIN:VTIMEZONE
TZID:Brazil/East
X-LIC-LOCATION:Brazil/East
BEGIN:STANDARD
DTSTART;VALUE=DATE-TIME:20230225T230000
TZNAME:BRT
TZOFFSETFROM:-0200
TZOFFSETTO:-0300
END:STANDARD
END:VTIMEZONE
END:VCALENDAR
