BEGIN:VCALENDAR
VERSION:2.0
PRODID:-//Plone.org//NONSGML plone.app.event//EN
X-WR-TIMEZONE:Brazil/East
BEGIN:VEVENT
SUMMARY:REUNIÃO DE EQUIPE DO VEREADOR HEYLER LEÃO.
DTSTART;TZID=Brazil/East;VALUE=DATE-TIME:20251108T090000
DTEND;TZID=Brazil/East;VALUE=DATE-TIME:20251108T120000
DTSTAMP;VALUE=DATE-TIME:20260421T060201Z
UID:8b99dc35417449d88bf24c1252975055@www.goiania.go.leg.br
CONTACT:VEREADOR HEYLER LEÃO
CREATED;VALUE=DATE-TIME:20251009T193134Z
LAST-MODIFIED;VALUE=DATE-TIME:20251009T193147Z
LOCATION:AUDITÓRIO CARLOS EURICO
URL:https://www.goiania.go.leg.br/sala-de-imprensa/eventos/reuniao-de-equi
 pe-do-vereador-heyler-leao
END:VEVENT
BEGIN:VTIMEZONE
TZID:Brazil/East
X-LIC-LOCATION:Brazil/East
BEGIN:DAYLIGHT
DTSTART;VALUE=DATE-TIME:20251019T010000
TZNAME:BRST
TZOFFSETFROM:-0300
TZOFFSETTO:-0200
END:DAYLIGHT
END:VTIMEZONE
END:VCALENDAR
