BEGIN:VCALENDAR
VERSION:2.0
PRODID:-//Plone.org//NONSGML plone.app.event//EN
X-WR-TIMEZONE:Brazil/East
BEGIN:VEVENT
SUMMARY:REUNIÃO DE EQUIPE DO  GABINETE.
DTSTART;TZID=Brazil/East;VALUE=DATE-TIME:20250923T090000
DTEND;TZID=Brazil/East;VALUE=DATE-TIME:20250923T110000
DTSTAMP;VALUE=DATE-TIME:20260420T185420Z
UID:d50a09c46a8b45ddb8f89dc47cb86a99@www.goiania.go.leg.br
CONTACT:VEREADOR RONILSON REIS
CREATED;VALUE=DATE-TIME:20250922T121922Z
LAST-MODIFIED;VALUE=DATE-TIME:20250922T121953Z
LOCATION:AUDITÓRIO CARLOS EURICO
URL:https://www.goiania.go.leg.br/sala-de-imprensa/eventos/reuniao-de-equi
 pe-do-gabinete-3
END:VEVENT
BEGIN:VTIMEZONE
TZID:Brazil/East
X-LIC-LOCATION:Brazil/East
BEGIN:STANDARD
DTSTART;VALUE=DATE-TIME:20250215T230000
TZNAME:BRT
TZOFFSETFROM:-0200
TZOFFSETTO:-0300
END:STANDARD
END:VTIMEZONE
END:VCALENDAR
