BEGIN:VCALENDAR
VERSION:2.0
PRODID:-//Plone.org//NONSGML plone.app.event//EN
X-WR-TIMEZONE:Brazil/East
BEGIN:VEVENT
SUMMARY:REUNIÃO DE EQUIPE DO GABINETE 19.
DTSTART;TZID=Brazil/East;VALUE=DATE-TIME:20220323T080000
DTEND;TZID=Brazil/East;VALUE=DATE-TIME:20220323T100000
DTSTAMP;VALUE=DATE-TIME:20260422T154620Z
UID:aa4bac5fae0143d4a9865adde4491a45@www.goiania.go.leg.br
CONTACT:VEREADORA AAVA SANTIAGO
CREATED;VALUE=DATE-TIME:20220321T212106Z
LAST-MODIFIED;VALUE=DATE-TIME:20220321T212153Z
LOCATION:SALA DE REUNIÃO DA PRESIDÊNCIA
URL:https://www.goiania.go.leg.br/sala-de-imprensa/eventos/reuniao-de-equi
 pe-do-gabinete-19-8
END:VEVENT
BEGIN:VTIMEZONE
TZID:Brazil/East
X-LIC-LOCATION:Brazil/East
BEGIN:STANDARD
DTSTART;VALUE=DATE-TIME:20220219T230000
TZNAME:BRT
TZOFFSETFROM:-0200
TZOFFSETTO:-0300
END:STANDARD
END:VTIMEZONE
END:VCALENDAR
