BEGIN:VCALENDAR
VERSION:2.0
PRODID:-//Plone.org//NONSGML plone.app.event//EN
X-WR-TIMEZONE:Brazil/East
BEGIN:VEVENT
SUMMARY:REUNIÃO DE EQUIPE DO GABINETE 19.
DTSTART;TZID=Brazil/East;VALUE=DATE-TIME:20211018T080000
DTEND;TZID=Brazil/East;VALUE=DATE-TIME:20211018T110000
DTSTAMP;VALUE=DATE-TIME:20260425T150839Z
UID:ff6c634ac863466ba73a11e552c3cc16@www.goiania.go.leg.br
CONTACT:Vereadora Aava Santiago
CREATED;VALUE=DATE-TIME:20211013T193215Z
LAST-MODIFIED;VALUE=DATE-TIME:20211013T193251Z
LOCATION:Sala de Reunião da Presidência
URL:https://www.goiania.go.leg.br/sala-de-imprensa/eventos/reuniao-de-equi
 pe-do-gabinete-19-4
END:VEVENT
BEGIN:VTIMEZONE
TZID:Brazil/East
X-LIC-LOCATION:Brazil/East
BEGIN:DAYLIGHT
DTSTART;VALUE=DATE-TIME:20211017T010000
TZNAME:BRST
TZOFFSETFROM:-0300
TZOFFSETTO:-0200
END:DAYLIGHT
END:VTIMEZONE
END:VCALENDAR
