BEGIN:VCALENDAR
VERSION:2.0
PRODID:-//Plone.org//NONSGML plone.app.event//EN
X-WR-TIMEZONE:Brazil/East
BEGIN:VEVENT
SUMMARY:REUNIÃO DE EQUIPE DO GABINETE 19.
DTSTART;TZID=Brazil/East;VALUE=DATE-TIME:20220615T130000
DTEND;TZID=Brazil/East;VALUE=DATE-TIME:20220615T160000
DTSTAMP;VALUE=DATE-TIME:20260422T035654Z
UID:45a296c8c53d49b9b0283c4d0b61f529@www.goiania.go.leg.br
CONTACT:Vereadora Aava Santiago
CREATED;VALUE=DATE-TIME:20220608T193350Z
LAST-MODIFIED;VALUE=DATE-TIME:20220608T193401Z
LOCATION:SALA DE REUNIÃO DA PRESIDÊNCIA
URL:https://www.goiania.go.leg.br/sala-de-imprensa/eventos/reuniao-de-equi
 pe-do-gabinete-19-14
END:VEVENT
BEGIN:VTIMEZONE
TZID:Brazil/East
X-LIC-LOCATION:Brazil/East
BEGIN:STANDARD
DTSTART;VALUE=DATE-TIME:20220219T230000
TZNAME:BRT
TZOFFSETFROM:-0200
TZOFFSETTO:-0300
END:STANDARD
END:VTIMEZONE
END:VCALENDAR
