BEGIN:VCALENDAR
VERSION:2.0
PRODID:-//Plone.org//NONSGML plone.app.event//EN
X-WR-TIMEZONE:Brazil/East
BEGIN:VEVENT
SUMMARY:REUNIÃO DE EQUIPE DO GABINETE 19.
DTSTART;TZID=Brazil/East;VALUE=DATE-TIME:20220602T090000
DTEND;TZID=Brazil/East;VALUE=DATE-TIME:20220602T120000
DTSTAMP;VALUE=DATE-TIME:20260425T082022Z
UID:38152c6fb98e4847b27212f81080d2ac@www.goiania.go.leg.br
CONTACT:VEREADORA AAVA SANTIAGO
CREATED;VALUE=DATE-TIME:20220601T193755Z
LAST-MODIFIED;VALUE=DATE-TIME:20220601T193809Z
LOCATION:SALA DE REUNIÃO DA PRESIDÊNCIA
URL:https://www.goiania.go.leg.br/sala-de-imprensa/eventos/reuniao-de-equi
 pe-do-gabinete-19-13
END:VEVENT
BEGIN:VTIMEZONE
TZID:Brazil/East
X-LIC-LOCATION:Brazil/East
BEGIN:STANDARD
DTSTART;VALUE=DATE-TIME:20220219T230000
TZNAME:BRT
TZOFFSETFROM:-0200
TZOFFSETTO:-0300
END:STANDARD
END:VTIMEZONE
END:VCALENDAR
