BEGIN:VCALENDAR
VERSION:2.0
PRODID:-//Plone.org//NONSGML plone.app.event//EN
X-WR-TIMEZONE:Brazil/East
BEGIN:VEVENT
SUMMARY:REUNIÃO DE EQUIPE.
DTSTART;TZID=Brazil/East;VALUE=DATE-TIME:20251016T090000
DTEND;TZID=Brazil/East;VALUE=DATE-TIME:20251016T120000
DTSTAMP;VALUE=DATE-TIME:20260423T014015Z
UID:b76bde711d8c450a957f8bb5b9456dc8@www.goiania.go.leg.br
CONTACT:VEREADOR DR. GUSTAVO GOMIDES
CREATED;VALUE=DATE-TIME:20251014T131212Z
LAST-MODIFIED;VALUE=DATE-TIME:20251014T131227Z
LOCATION:SALA DE REUNIÃO DA PRESIDÊNCIA
URL:https://www.goiania.go.leg.br/sala-de-imprensa/eventos/reuniao-de-equi
 pe-42
END:VEVENT
BEGIN:VTIMEZONE
TZID:Brazil/East
X-LIC-LOCATION:Brazil/East
BEGIN:STANDARD
DTSTART;VALUE=DATE-TIME:20250215T230000
TZNAME:BRT
TZOFFSETFROM:-0200
TZOFFSETTO:-0300
END:STANDARD
END:VTIMEZONE
END:VCALENDAR
