BEGIN:VCALENDAR
VERSION:2.0
PRODID:-//Plone.org//NONSGML plone.app.event//EN
X-WR-TIMEZONE:Brazil/East
BEGIN:VEVENT
SUMMARY:REUNIÃO DE EQUIPE.
DTSTART;TZID=Brazil/East;VALUE=DATE-TIME:20250902T173000
DTEND;TZID=Brazil/East;VALUE=DATE-TIME:20250902T190000
DTSTAMP;VALUE=DATE-TIME:20260421T042511Z
UID:731f9cd1149845f5b806963f31aa2d68@www.goiania.go.leg.br
CONTACT:VEREADOR DENÍCIO TRINDADE
CREATED;VALUE=DATE-TIME:20250828T212428Z
LAST-MODIFIED;VALUE=DATE-TIME:20250828T212441Z
LOCATION:SALA DE REUNIÕES DA PRESIDÊNCIA
URL:https://www.goiania.go.leg.br/sala-de-imprensa/eventos/reuniao-de-equi
 pe-39
END:VEVENT
BEGIN:VTIMEZONE
TZID:Brazil/East
X-LIC-LOCATION:Brazil/East
BEGIN:STANDARD
DTSTART;VALUE=DATE-TIME:20250215T230000
TZNAME:BRT
TZOFFSETFROM:-0200
TZOFFSETTO:-0300
END:STANDARD
END:VTIMEZONE
END:VCALENDAR
