BEGIN:VCALENDAR
VERSION:2.0
PRODID:-//Plone.org//NONSGML plone.app.event//EN
X-WR-TIMEZONE:Brazil/East
BEGIN:VEVENT
SUMMARY:REUNIÃO DE EQUIPE.
DTSTART;TZID=Brazil/East;VALUE=DATE-TIME:20241204T130000
DTEND;TZID=Brazil/East;VALUE=DATE-TIME:20241204T180000
DTSTAMP;VALUE=DATE-TIME:20260424T053524Z
UID:f5c719025205497ea9a0caaa4e6bdb25@www.goiania.go.leg.br
CONTACT:VEREADOR FABRICIO ROSA
CREATED;VALUE=DATE-TIME:20241127T152613Z
LAST-MODIFIED;VALUE=DATE-TIME:20241127T152626Z
LOCATION:SALA DE REUNIÃO DA PRESIDÊNCIA
URL:https://www.goiania.go.leg.br/sala-de-imprensa/eventos/reuniao-de-equi
 pe-33
END:VEVENT
BEGIN:VTIMEZONE
TZID:Brazil/East
X-LIC-LOCATION:Brazil/East
BEGIN:DAYLIGHT
DTSTART;VALUE=DATE-TIME:20241020T010000
TZNAME:BRST
TZOFFSETFROM:-0300
TZOFFSETTO:-0200
END:DAYLIGHT
END:VTIMEZONE
END:VCALENDAR
