BEGIN:VCALENDAR
VERSION:2.0
PRODID:-//Plone.org//NONSGML plone.app.event//EN
X-WR-TIMEZONE:Brazil/East
BEGIN:VEVENT
SUMMARY:REUNIÃO DE EQUIPE.
DTSTART;TZID=Brazil/East;VALUE=DATE-TIME:20240701T160000
DTEND;TZID=Brazil/East;VALUE=DATE-TIME:20240701T180000
DTSTAMP;VALUE=DATE-TIME:20260420T224937Z
UID:97ae0f23a142445fa6cf6776d8c77e0f@www.goiania.go.leg.br
CONTACT:VEREADOR FABRÍCIO BONFIM
CREATED;VALUE=DATE-TIME:20240626T192210Z
LAST-MODIFIED;VALUE=DATE-TIME:20240626T192227Z
LOCATION:SALA DE REUNIÃO DA PRESIDÊNCIA
URL:https://www.goiania.go.leg.br/sala-de-imprensa/eventos/reuniao-de-equi
 pe-26
END:VEVENT
BEGIN:VTIMEZONE
TZID:Brazil/East
X-LIC-LOCATION:Brazil/East
BEGIN:STANDARD
DTSTART;VALUE=DATE-TIME:20240217T230000
TZNAME:BRT
TZOFFSETFROM:-0200
TZOFFSETTO:-0300
END:STANDARD
END:VTIMEZONE
END:VCALENDAR
