BEGIN:VCALENDAR
VERSION:2.0
PRODID:-//Plone.org//NONSGML plone.app.event//EN
X-WR-TIMEZONE:Brazil/East
BEGIN:VEVENT
SUMMARY:REUNIÃO DE EQUIPE.
DTSTART;TZID=Brazil/East;VALUE=DATE-TIME:20231016T080000
DTEND;TZID=Brazil/East;VALUE=DATE-TIME:20231016T130000
DTSTAMP;VALUE=DATE-TIME:20260419T093048Z
UID:67cc4bc8ae8349ac9b16ec8b380f850a@www.goiania.go.leg.br
CONTACT:VEREADOR LEANDRO SENA
CREATED;VALUE=DATE-TIME:20231011T193304Z
LAST-MODIFIED;VALUE=DATE-TIME:20231011T193404Z
LOCATION:AUDITÓRIO CARLOS EURICO
URL:https://www.goiania.go.leg.br/sala-de-imprensa/eventos/reuniao-de-equi
 pe-13
END:VEVENT
BEGIN:VTIMEZONE
TZID:Brazil/East
X-LIC-LOCATION:Brazil/East
BEGIN:DAYLIGHT
DTSTART;VALUE=DATE-TIME:20231015T010000
TZNAME:BRST
TZOFFSETFROM:-0300
TZOFFSETTO:-0200
END:DAYLIGHT
END:VTIMEZONE
END:VCALENDAR
