BEGIN:VCALENDAR
VERSION:2.0
PRODID:-//Plone.org//NONSGML plone.app.event//EN
X-WR-TIMEZONE:Brazil/East
BEGIN:VEVENT
SUMMARY:REUNIÃO DE ENSAIO DO PROJETO DE VIDA.
DTSTART;TZID=Brazil/East;VALUE=DATE-TIME:20250813T080000
DTEND;TZID=Brazil/East;VALUE=DATE-TIME:20250813T110000
DTSTAMP;VALUE=DATE-TIME:20260423T131126Z
UID:fca4a84d8ab94bf08b07362533561863@www.goiania.go.leg.br
CONTACT:VEREADOR IGOR FRANCO
CREATED;VALUE=DATE-TIME:20250813T214146Z
LAST-MODIFIED;VALUE=DATE-TIME:20250813T214206Z
LOCATION:AUDITÓRIO CARLOS EURICO
URL:https://www.goiania.go.leg.br/sala-de-imprensa/eventos/reuniao-de-ensa
 io-do-projeto-de-vida
END:VEVENT
BEGIN:VTIMEZONE
TZID:Brazil/East
X-LIC-LOCATION:Brazil/East
BEGIN:STANDARD
DTSTART;VALUE=DATE-TIME:20250215T230000
TZNAME:BRT
TZOFFSETFROM:-0200
TZOFFSETTO:-0300
END:STANDARD
END:VTIMEZONE
END:VCALENDAR
