BEGIN:VCALENDAR
VERSION:2.0
PRODID:-//Plone.org//NONSGML plone.app.event//EN
X-WR-TIMEZONE:Brazil/East
BEGIN:VEVENT
SUMMARY:REUNIÃO DE CONFRATERNIZAÇÃO DA EQUIPE DA COORDENAÇÃO DE PROTO
 COLO E EXPEDIENTE.
DTSTART;TZID=Brazil/East;VALUE=DATE-TIME:20220509T100000
DTEND;TZID=Brazil/East;VALUE=DATE-TIME:20220509T130000
DTSTAMP;VALUE=DATE-TIME:20260419T190053Z
UID:e8f3904883cc44c8b450c8fe6e6ca7a7@www.goiania.go.leg.br
CONTACT:FLÁVIA FERNANDA DE OLIVEIRA
CREATED;VALUE=DATE-TIME:20220503T111628Z
LAST-MODIFIED;VALUE=DATE-TIME:20220503T111636Z
LOCATION:SALA DE REUNIÃO DA PRESIDÊNCIA
URL:https://www.goiania.go.leg.br/sala-de-imprensa/eventos/reuniao-de-conf
 raternizacao-da-equipe-da-coordenacao-de-protocolo-e-expediente
END:VEVENT
BEGIN:VTIMEZONE
TZID:Brazil/East
X-LIC-LOCATION:Brazil/East
BEGIN:STANDARD
DTSTART;VALUE=DATE-TIME:20220219T230000
TZNAME:BRT
TZOFFSETFROM:-0200
TZOFFSETTO:-0300
END:STANDARD
END:VTIMEZONE
END:VCALENDAR
