BEGIN:VCALENDAR
VERSION:2.0
PRODID:-//Plone.org//NONSGML plone.app.event//EN
X-WR-TIMEZONE:Brazil/East
BEGIN:VEVENT
SUMMARY:REUNIÃO DE CONDÔMINOS DO RESIDENCIAL RESERVA JARAGUÁ - VILA JAR
 AGUÁ.
DTSTART;TZID=Brazil/East;VALUE=DATE-TIME:20180712T180000
DTEND;TZID=Brazil/East;VALUE=DATE-TIME:20180712T220000
DTSTAMP;VALUE=DATE-TIME:20260425T105421Z
UID:f694270d071643e4af51fb0c8629553e@www.goiania.go.leg.br
CONTACT:VEREADOR LUCAS KITÃO
CREATED;VALUE=DATE-TIME:20180626T133659Z
LAST-MODIFIED;VALUE=DATE-TIME:20180626T133650Z
LOCATION:AUDITÓRIO JAIME CÂMARA
URL:https://www.goiania.go.leg.br/sala-de-imprensa/eventos/reuniao-de-cond
 ominos-do-residencial-reserva-jaragua-vila-jaragua
END:VEVENT
BEGIN:VTIMEZONE
TZID:Brazil/East
X-LIC-LOCATION:Brazil/East
BEGIN:STANDARD
DTSTART;VALUE=DATE-TIME:20180217T230000
TZNAME:BRT
TZOFFSETFROM:-0200
TZOFFSETTO:-0300
END:STANDARD
END:VTIMEZONE
END:VCALENDAR
