BEGIN:VCALENDAR
VERSION:2.0
PRODID:-//Plone.org//NONSGML plone.app.event//EN
X-WR-TIMEZONE:Brazil/East
BEGIN:VEVENT
SUMMARY:REUNIÃO DE ATIVIDADE DO GABINETE 33.
DTSTART;TZID=Brazil/East;VALUE=DATE-TIME:20240527T080000
DTEND;TZID=Brazil/East;VALUE=DATE-TIME:20240527T090000
DTSTAMP;VALUE=DATE-TIME:20260421T084857Z
UID:adaaba756587474d9add4d22aa79701e@www.goiania.go.leg.br
CONTACT:VEREADOR FABRICIO ROSA
CREATED;VALUE=DATE-TIME:20240522T105421Z
LAST-MODIFIED;VALUE=DATE-TIME:20240522T105441Z
LOCATION:SALA DE REUNIÃO DAS COMISSÕES
URL:https://www.goiania.go.leg.br/sala-de-imprensa/eventos/reuniao-de-ativ
 idade-do-gabinete-33
END:VEVENT
BEGIN:VTIMEZONE
TZID:Brazil/East
X-LIC-LOCATION:Brazil/East
BEGIN:STANDARD
DTSTART;VALUE=DATE-TIME:20240217T230000
TZNAME:BRT
TZOFFSETFROM:-0200
TZOFFSETTO:-0300
END:STANDARD
END:VTIMEZONE
END:VCALENDAR
