BEGIN:VCALENDAR
VERSION:2.0
PRODID:-//Plone.org//NONSGML plone.app.event//EN
X-WR-TIMEZONE:Brazil/East
BEGIN:VEVENT
SUMMARY:REUNIÃO  DE APRESENTAÇÃO FINAL E APRECIAÇÃO DO PROJETO DE LEI
  072/2024 (QUE TRATA SOBRE A LDO-2025.
DTSTART;TZID=Brazil/East;VALUE=DATE-TIME:20240625T080000
DTEND;TZID=Brazil/East;VALUE=DATE-TIME:20240625T120000
DTSTAMP;VALUE=DATE-TIME:20260420T160152Z
UID:1f7745c80919492589f573f345cf87e2@www.goiania.go.leg.br
CONTACT:VEREADOR IGOR FRANCO
CREATED;VALUE=DATE-TIME:20240529T125632Z
LAST-MODIFIED;VALUE=DATE-TIME:20240529T125717Z
LOCATION:SALA DE REUNIÃO DA PRESIDÊNCIA
URL:https://www.goiania.go.leg.br/sala-de-imprensa/eventos/reuniao-de-apre
 sentacao-final-e-apreciacao-do-projeto-de-lei-072-2024-que-trata-sobre-a-l
 do-2025
END:VEVENT
BEGIN:VTIMEZONE
TZID:Brazil/East
X-LIC-LOCATION:Brazil/East
BEGIN:STANDARD
DTSTART;VALUE=DATE-TIME:20240217T230000
TZNAME:BRT
TZOFFSETFROM:-0200
TZOFFSETTO:-0300
END:STANDARD
END:VTIMEZONE
END:VCALENDAR
