BEGIN:VCALENDAR
VERSION:2.0
PRODID:-//Plone.org//NONSGML plone.app.event//EN
X-WR-TIMEZONE:Brazil/East
BEGIN:VEVENT
SUMMARY:REUNIÃO DE APOIADORES DO PT DE GOIÂNIA.
DTSTART;TZID=Brazil/East;VALUE=DATE-TIME:20240805T180000
DTEND;TZID=Brazil/East;VALUE=DATE-TIME:20240805T220000
DTSTAMP;VALUE=DATE-TIME:20260421T054057Z
UID:3c06239d5e634c83a05df0e890e5acf4@www.goiania.go.leg.br
CONTACT:VEREADORA KATIA
CREATED;VALUE=DATE-TIME:20240118T105005Z
LAST-MODIFIED;VALUE=DATE-TIME:20240118T105025Z
LOCATION:AUDITÓRIO CARLOS EURICO
URL:https://www.goiania.go.leg.br/sala-de-imprensa/eventos/reuniao-de-apoi
 adores-do-pt-de-goiania-7
END:VEVENT
BEGIN:VTIMEZONE
TZID:Brazil/East
X-LIC-LOCATION:Brazil/East
BEGIN:STANDARD
DTSTART;VALUE=DATE-TIME:20240217T230000
TZNAME:BRT
TZOFFSETFROM:-0200
TZOFFSETTO:-0300
END:STANDARD
END:VTIMEZONE
END:VCALENDAR
