BEGIN:VCALENDAR
VERSION:2.0
PRODID:-//Plone.org//NONSGML plone.app.event//EN
X-WR-TIMEZONE:Brazil/East
BEGIN:VEVENT
SUMMARY:REUNIÃO DE APOIADORES DO PT DE GOIÂNIA.
DTSTART;TZID=Brazil/East;VALUE=DATE-TIME:20240205T180000
DTEND;TZID=Brazil/East;VALUE=DATE-TIME:20240205T220000
DTSTAMP;VALUE=DATE-TIME:20260419T190521Z
UID:0d65b00632fc49d99f2b798b62b4b2b6@www.goiania.go.leg.br
CONTACT:VEREADORA KATIA
CREATED;VALUE=DATE-TIME:20240118T103459Z
LAST-MODIFIED;VALUE=DATE-TIME:20240118T103516Z
LOCATION:AUDITÓRIO CARLOS EURICO
URL:https://www.goiania.go.leg.br/sala-de-imprensa/eventos/reuniao-de-apoi
 adores-do-pt-de-goiania-1
END:VEVENT
BEGIN:VTIMEZONE
TZID:Brazil/East
X-LIC-LOCATION:Brazil/East
BEGIN:DAYLIGHT
DTSTART;VALUE=DATE-TIME:20231015T010000
TZNAME:BRST
TZOFFSETFROM:-0300
TZOFFSETTO:-0200
END:DAYLIGHT
END:VTIMEZONE
END:VCALENDAR
