BEGIN:VCALENDAR
VERSION:2.0
PRODID:-//Plone.org//NONSGML plone.app.event//EN
X-WR-TIMEZONE:Brazil/East
BEGIN:VEVENT
SUMMARY:REUNIÃO DE ALINHAMENTO.
DTSTART;TZID=Brazil/East;VALUE=DATE-TIME:20231116T080000
DTEND;TZID=Brazil/East;VALUE=DATE-TIME:20231116T120000
DTSTAMP;VALUE=DATE-TIME:20260421T230214Z
UID:275133f79dd4410f87ec28014ab2a6ee@www.goiania.go.leg.br
CONTACT:VEREADOR GEVERSON ABEL
CREATED;VALUE=DATE-TIME:20231031T120906Z
LAST-MODIFIED;VALUE=DATE-TIME:20231031T121009Z
LOCATION:AUDITÓRIO CARLOS EURICO
URL:https://www.goiania.go.leg.br/sala-de-imprensa/eventos/reuniao-de-alin
 hamento
END:VEVENT
BEGIN:VTIMEZONE
TZID:Brazil/East
X-LIC-LOCATION:Brazil/East
BEGIN:DAYLIGHT
DTSTART;VALUE=DATE-TIME:20231015T010000
TZNAME:BRST
TZOFFSETFROM:-0300
TZOFFSETTO:-0200
END:DAYLIGHT
END:VTIMEZONE
END:VCALENDAR
