BEGIN:VCALENDAR
VERSION:2.0
PRODID:-//Plone.org//NONSGML plone.app.event//EN
X-WR-TIMEZONE:Brazil/East
BEGIN:VEVENT
SUMMARY:REUNIÃO  DAS ZONAIS.
DTSTART;TZID=Brazil/East;VALUE=DATE-TIME:20250408T190000
DTEND;TZID=Brazil/East;VALUE=DATE-TIME:20250408T220000
DTSTAMP;VALUE=DATE-TIME:20260423T052924Z
UID:7aabb6818b224daba50ed7adb02a73ab@www.goiania.go.leg.br
CONTACT:VEREADORA KATIA
CREATED;VALUE=DATE-TIME:20250407T140850Z
LAST-MODIFIED;VALUE=DATE-TIME:20250407T140911Z
LOCATION:AUDITÓRIO CARLOS EURICO
URL:https://www.goiania.go.leg.br/sala-de-imprensa/eventos/reuniao-das-zon
 ais
END:VEVENT
BEGIN:VTIMEZONE
TZID:Brazil/East
X-LIC-LOCATION:Brazil/East
BEGIN:STANDARD
DTSTART;VALUE=DATE-TIME:20250215T230000
TZNAME:BRT
TZOFFSETFROM:-0200
TZOFFSETTO:-0300
END:STANDARD
END:VTIMEZONE
END:VCALENDAR
