BEGIN:VCALENDAR
VERSION:2.0
PRODID:-//Plone.org//NONSGML plone.app.event//EN
X-WR-TIMEZONE:Brazil/East
BEGIN:VEVENT
SUMMARY:REUNIÃO DAS LIDERANÇAS DO MOVIMENTO COMUNITÁRIO DO PT DE GOIÂN
 IA.
DTSTART;TZID=Brazil/East;VALUE=DATE-TIME:20230605T180000
DTEND;TZID=Brazil/East;VALUE=DATE-TIME:20230605T213000
DTSTAMP;VALUE=DATE-TIME:20260423T014438Z
UID:ba920fe5c7ed41118dd4492d472af0d4@www.goiania.go.leg.br
CONTACT:VEREADORA KATIA
CREATED;VALUE=DATE-TIME:20230602T192129Z
LAST-MODIFIED;VALUE=DATE-TIME:20230602T192215Z
LOCATION:AUDITÓRIO CARLOS EURICO
URL:https://www.goiania.go.leg.br/sala-de-imprensa/eventos/reuniao-das-lid
 erancas-do-movimento-comunitario-do-pt-de-goiania
END:VEVENT
BEGIN:VTIMEZONE
TZID:Brazil/East
X-LIC-LOCATION:Brazil/East
BEGIN:STANDARD
DTSTART;VALUE=DATE-TIME:20230225T230000
TZNAME:BRT
TZOFFSETFROM:-0200
TZOFFSETTO:-0300
END:STANDARD
END:VTIMEZONE
END:VCALENDAR
