BEGIN:VCALENDAR
VERSION:2.0
PRODID:-//Plone.org//NONSGML plone.app.event//EN
X-WR-TIMEZONE:Brazil/East
BEGIN:VEVENT
SUMMARY:REUNIÃO DAS ENTIDADES DO MEIO AMBIENTAL.
DTSTART;TZID=Brazil/East;VALUE=DATE-TIME:20231106T130000
DTEND;TZID=Brazil/East;VALUE=DATE-TIME:20231106T180000
DTSTAMP;VALUE=DATE-TIME:20260421T013049Z
UID:5736117960f04bbf9d6d3669bff17d47@www.goiania.go.leg.br
CONTACT:VEREADORA KATIA
CREATED;VALUE=DATE-TIME:20231106T134651Z
LAST-MODIFIED;VALUE=DATE-TIME:20231106T134712Z
LOCATION:SALA DE REUNIÃO DAS COMISSÕES
URL:https://www.goiania.go.leg.br/sala-de-imprensa/eventos/reuniao-das-ent
 idades-do-meio-ambiental
END:VEVENT
BEGIN:VTIMEZONE
TZID:Brazil/East
X-LIC-LOCATION:Brazil/East
BEGIN:DAYLIGHT
DTSTART;VALUE=DATE-TIME:20231015T010000
TZNAME:BRST
TZOFFSETFROM:-0300
TZOFFSETTO:-0200
END:DAYLIGHT
END:VTIMEZONE
END:VCALENDAR
