BEGIN:VCALENDAR
VERSION:2.0
PRODID:-//Plone.org//NONSGML plone.app.event//EN
X-WR-TIMEZONE:Brazil/East
BEGIN:VEVENT
SUMMARY:REUNIÃO DA VEREADORA COM OS TERAPEUTAS OCUPACIONAIS 
DTSTART;TZID=Brazil/East;VALUE=DATE-TIME:20190325T190000
DTEND;TZID=Brazil/East;VALUE=DATE-TIME:20190325T220000
DTSTAMP;VALUE=DATE-TIME:20260424T192215Z
UID:babf1a6bef794cbcb56ae2ab5db64a7a@www.goiania.go.leg.br
CONTACT:VEREADORA DRA. CRISTINA LOPES AFONSO
CREATED;VALUE=DATE-TIME:20190319T142834Z
LAST-MODIFIED;VALUE=DATE-TIME:20190319T143014Z
LOCATION:SALA DAS COMISSÕES 
URL:https://www.goiania.go.leg.br/sala-de-imprensa/eventos/reuniao-da-vere
 adora-com-os-terapeutas-ocupacionais
END:VEVENT
BEGIN:VTIMEZONE
TZID:Brazil/East
X-LIC-LOCATION:Brazil/East
BEGIN:STANDARD
DTSTART;VALUE=DATE-TIME:20190216T230000
TZNAME:BRT
TZOFFSETFROM:-0200
TZOFFSETTO:-0300
END:STANDARD
END:VTIMEZONE
END:VCALENDAR
