BEGIN:VCALENDAR
VERSION:2.0
PRODID:-//Plone.org//NONSGML plone.app.event//EN
X-WR-TIMEZONE:Brazil/East
BEGIN:VEVENT
SUMMARY:REUNIÃO DA REDE DE PROTEÇÃO AO IDOSO.
DTSTART;TZID=Brazil/East;VALUE=DATE-TIME:20200305T140000
DTEND;TZID=Brazil/East;VALUE=DATE-TIME:20200305T180000
DTSTAMP;VALUE=DATE-TIME:20260421T112109Z
UID:2925f767383d44968d8cdc87b58fdc52@www.goiania.go.leg.br
CONTACT:VVEREADOR PAULO MAGALHÃES
CREATED;VALUE=DATE-TIME:20200206T141323Z
LAST-MODIFIED;VALUE=DATE-TIME:20200212T215139Z
LOCATION:SALA REUNIÃO DAS COMISSÕES
URL:https://www.goiania.go.leg.br/sala-de-imprensa/eventos/reuniao-da-rede
 -de-protecao-ao-idoso
END:VEVENT
BEGIN:VTIMEZONE
TZID:Brazil/East
X-LIC-LOCATION:Brazil/East
BEGIN:STANDARD
DTSTART;VALUE=DATE-TIME:20200215T230000
TZNAME:BRT
TZOFFSETFROM:-0200
TZOFFSETTO:-0300
END:STANDARD
END:VTIMEZONE
END:VCALENDAR
