BEGIN:VCALENDAR
VERSION:2.0
PRODID:-//Plone.org//NONSGML plone.app.event//EN
X-WR-TIMEZONE:Brazil/East
BEGIN:VEVENT
SUMMARY:REUNIÃO DA GUARDA CIVIL METROPOLITANA MUNICIPAL ONDE SE DISCUTIR
 Á MINUTA DE REFORMULAÇÃO DO PLANO DE CARREIRA
DTSTART;TZID=Brazil/East;VALUE=DATE-TIME:20180713T183000
DTEND;TZID=Brazil/East;VALUE=DATE-TIME:20180713T220000
DTSTAMP;VALUE=DATE-TIME:20260425T105420Z
UID:86789c2226214631a81ba8162770ecbb@www.goiania.go.leg.br
CONTACT:VEREADORA SABRINA GARCÊZ
CREATED;VALUE=DATE-TIME:20180710T142342Z
LAST-MODIFIED;VALUE=DATE-TIME:20180710T142423Z
LOCATION:SALA DAS COMISSÕES
URL:https://www.goiania.go.leg.br/sala-de-imprensa/eventos/reuniao-da-guar
 da-civil-metropolitana-municipal-onde-se-discutira-minuta-de-reformulacao-
 do-plano-de-carreira
END:VEVENT
BEGIN:VTIMEZONE
TZID:Brazil/East
X-LIC-LOCATION:Brazil/East
BEGIN:STANDARD
DTSTART;VALUE=DATE-TIME:20180217T230000
TZNAME:BRT
TZOFFSETFROM:-0200
TZOFFSETTO:-0300
END:STANDARD
END:VTIMEZONE
END:VCALENDAR
