BEGIN:VCALENDAR
VERSION:2.0
PRODID:-//Plone.org//NONSGML plone.app.event//EN
X-WR-TIMEZONE:Brazil/East
BEGIN:VEVENT
SUMMARY:REUNIÃO DA FEDERAÇÃO GOIANA DE CARATÊ.
DTSTART;TZID=Brazil/East;VALUE=DATE-TIME:20160806T180000
DTEND;TZID=Brazil/East;VALUE=DATE-TIME:20160806T200000
DTSTAMP;VALUE=DATE-TIME:20260425T205009Z
UID:3025824756ea413fbc31eb2f781240a9@www.goiania.go.leg.br
CONTACT:VEREADOR WELINGTON PEIXOTO
CREATED;VALUE=DATE-TIME:20171208T111312Z
LAST-MODIFIED;VALUE=DATE-TIME:20171208T112923Z
LOCATION:AUDITÓRIO CARLOS EURICO
URL:https://www.goiania.go.leg.br/sala-de-imprensa/eventos/reuniao-da-fede
 racao-goiana-de-carate
END:VEVENT
BEGIN:VTIMEZONE
TZID:Brazil/East
X-LIC-LOCATION:Brazil/East
BEGIN:STANDARD
DTSTART;VALUE=DATE-TIME:20160220T230000
TZNAME:BRT
TZOFFSETFROM:-0200
TZOFFSETTO:-0300
END:STANDARD
END:VTIMEZONE
END:VCALENDAR
