BEGIN:VCALENDAR
VERSION:2.0
PRODID:-//Plone.org//NONSGML plone.app.event//EN
X-WR-TIMEZONE:Brazil/East
BEGIN:VEVENT
SUMMARY:REUNIÃO DA EQUIPE.
DTSTART;TZID=Brazil/East;VALUE=DATE-TIME:20180512T080000
DTEND;TZID=Brazil/East;VALUE=DATE-TIME:20180512T150000
DTSTAMP;VALUE=DATE-TIME:20260425T150704Z
UID:2bdb1fc5497444ba8d36bc0d6ebcf424@www.goiania.go.leg.br
CONTACT:VEREADOR MILTON MERCEZ
CREATED;VALUE=DATE-TIME:20180508T213511Z
LAST-MODIFIED;VALUE=DATE-TIME:20180508T213616Z
LOCATION:AUDITÓRIO JAIME CÂMARA
URL:https://www.goiania.go.leg.br/sala-de-imprensa/eventos/reuniao-da-equi
 pe
END:VEVENT
BEGIN:VTIMEZONE
TZID:Brazil/East
X-LIC-LOCATION:Brazil/East
BEGIN:STANDARD
DTSTART;VALUE=DATE-TIME:20180217T230000
TZNAME:BRT
TZOFFSETFROM:-0200
TZOFFSETTO:-0300
END:STANDARD
END:VTIMEZONE
END:VCALENDAR
