BEGIN:VCALENDAR
VERSION:2.0
PRODID:-//Plone.org//NONSGML plone.app.event//EN
X-WR-TIMEZONE:Brazil/East
BEGIN:VEVENT
SUMMARY:REUNIÃO DA EQUIPE INTERNA DO MANDATO.
DTSTART;TZID=Brazil/East;VALUE=DATE-TIME:20260309T090000
DTEND;TZID=Brazil/East;VALUE=DATE-TIME:20260309T120000
DTSTAMP;VALUE=DATE-TIME:20260423T142532Z
UID:64222c67df8d434190d0b6bae917d7bc@www.goiania.go.leg.br
CONTACT:VEREADOR FABRÍCIO ROSA
CREATED;VALUE=DATE-TIME:20260223T131651Z
LAST-MODIFIED;VALUE=DATE-TIME:20260223T131702Z
LOCATION:SALA DE REUNIÕES DAS COMISSÕES
URL:https://www.goiania.go.leg.br/sala-de-imprensa/eventos/reuniao-da-equi
 pe-interna-do-mandato
END:VEVENT
BEGIN:VTIMEZONE
TZID:Brazil/East
X-LIC-LOCATION:Brazil/East
BEGIN:STANDARD
DTSTART;VALUE=DATE-TIME:20260221T230000
TZNAME:BRT
TZOFFSETFROM:-0200
TZOFFSETTO:-0300
END:STANDARD
END:VTIMEZONE
END:VCALENDAR
