BEGIN:VCALENDAR
VERSION:2.0
PRODID:-//Plone.org//NONSGML plone.app.event//EN
X-WR-TIMEZONE:Brazil/East
BEGIN:VEVENT
SUMMARY:REUNIÃO DA EQUIPE DO GABINETE DO VEREADOR RONILSON REIS.
DTSTART;TZID=Brazil/East;VALUE=DATE-TIME:20240430T100000
DTEND;TZID=Brazil/East;VALUE=DATE-TIME:20240430T130000
DTSTAMP;VALUE=DATE-TIME:20260420T021156Z
UID:688cca4400ec4721aaa3ed439bca8208@www.goiania.go.leg.br
CONTACT:VEREADOR RONILSON REIS
CREATED;VALUE=DATE-TIME:20240429T220745Z
LAST-MODIFIED;VALUE=DATE-TIME:20240429T220801Z
LOCATION:AUDITÓRIO CARLOS EURICO
URL:https://www.goiania.go.leg.br/sala-de-imprensa/eventos/reuniao-da-equi
 pe-do-gabinete-do-vereador-ronilson-reis
END:VEVENT
BEGIN:VTIMEZONE
TZID:Brazil/East
X-LIC-LOCATION:Brazil/East
BEGIN:STANDARD
DTSTART;VALUE=DATE-TIME:20240217T230000
TZNAME:BRT
TZOFFSETFROM:-0200
TZOFFSETTO:-0300
END:STANDARD
END:VTIMEZONE
END:VCALENDAR
