BEGIN:VCALENDAR
VERSION:2.0
PRODID:-//Plone.org//NONSGML plone.app.event//EN
X-WR-TIMEZONE:Brazil/East
BEGIN:VEVENT
SUMMARY:REUNIÃO DA EQUIPE DO GABINETE 32.
DTSTART;TZID=Brazil/East;VALUE=DATE-TIME:20250520T140000
DTEND;TZID=Brazil/East;VALUE=DATE-TIME:20250520T170000
DTSTAMP;VALUE=DATE-TIME:20260425T092902Z
UID:8b6a51449e0440ef947025c0d1c543dd@www.goiania.go.leg.br
CONTACT:VEREADOR HEYLER LEÃO
CREATED;VALUE=DATE-TIME:20250519T150347Z
LAST-MODIFIED;VALUE=DATE-TIME:20250519T150357Z
LOCATION:SALA DE REUNIÃO DA COMISSÕES
URL:https://www.goiania.go.leg.br/sala-de-imprensa/eventos/reuniao-da-equi
 pe-do-gabinete-32
END:VEVENT
BEGIN:VTIMEZONE
TZID:Brazil/East
X-LIC-LOCATION:Brazil/East
BEGIN:STANDARD
DTSTART;VALUE=DATE-TIME:20250215T230000
TZNAME:BRT
TZOFFSETFROM:-0200
TZOFFSETTO:-0300
END:STANDARD
END:VTIMEZONE
END:VCALENDAR
