BEGIN:VCALENDAR
VERSION:2.0
PRODID:-//Plone.org//NONSGML plone.app.event//EN
X-WR-TIMEZONE:Brazil/East
BEGIN:VEVENT
SUMMARY:REUNIÃO DA EQUIPE DO GABINETE.
DTSTART;TZID=Brazil/East;VALUE=DATE-TIME:20230823T160000
DTEND;TZID=Brazil/East;VALUE=DATE-TIME:20230823T190000
DTSTAMP;VALUE=DATE-TIME:20260421T060850Z
UID:b0760c1e133a492c8699d058c1e1e96f@www.goiania.go.leg.br
CONTACT:VEREADOR RONILSON REIS
CREATED;VALUE=DATE-TIME:20230821T142906Z
LAST-MODIFIED;VALUE=DATE-TIME:20230823T144935Z
LOCATION:AUDITÓRIO CARLOS EURICO
URL:https://www.goiania.go.leg.br/sala-de-imprensa/eventos/reuniao-da-equi
 pe-do-gabinete-2
END:VEVENT
BEGIN:VTIMEZONE
TZID:Brazil/East
X-LIC-LOCATION:Brazil/East
BEGIN:STANDARD
DTSTART;VALUE=DATE-TIME:20230225T230000
TZNAME:BRT
TZOFFSETFROM:-0200
TZOFFSETTO:-0300
END:STANDARD
END:VTIMEZONE
END:VCALENDAR
