BEGIN:VCALENDAR
VERSION:2.0
PRODID:-//Plone.org//NONSGML plone.app.event//EN
X-WR-TIMEZONE:Brazil/East
BEGIN:VEVENT
SUMMARY:REUNIÃO DA EQUIPE DO GABINETE 11.
DTSTART;TZID=Brazil/East;VALUE=DATE-TIME:20220323T150000
DTEND;TZID=Brazil/East;VALUE=DATE-TIME:20220323T160000
DTSTAMP;VALUE=DATE-TIME:20260422T035655Z
UID:7655159cbc5143389a42e8b45502f81a@www.goiania.go.leg.br
CONTACT:VEREADOR RAPHAEL DA SAÚDE
CREATED;VALUE=DATE-TIME:20220323T103029Z
LAST-MODIFIED;VALUE=DATE-TIME:20220323T103055Z
LOCATION:SALA DE REUNIÃO DAS COMISSÕES
URL:https://www.goiania.go.leg.br/sala-de-imprensa/eventos/reuniao-da-equi
 pe-do-gabinete-11
END:VEVENT
BEGIN:VTIMEZONE
TZID:Brazil/East
X-LIC-LOCATION:Brazil/East
BEGIN:STANDARD
DTSTART;VALUE=DATE-TIME:20220219T230000
TZNAME:BRT
TZOFFSETFROM:-0200
TZOFFSETTO:-0300
END:STANDARD
END:VTIMEZONE
END:VCALENDAR
