BEGIN:VCALENDAR
VERSION:2.0
PRODID:-//Plone.org//NONSGML plone.app.event//EN
X-WR-TIMEZONE:Brazil/East
BEGIN:VEVENT
SUMMARY:REUNIÃO DA EQUIPE.
DTSTART;TZID=Brazil/East;VALUE=DATE-TIME:20240422T140000
DTEND;TZID=Brazil/East;VALUE=DATE-TIME:20240422T170000
DTSTAMP;VALUE=DATE-TIME:20260420T045946Z
UID:aefcd01ea01944f0acdf76b994232022@www.goiania.go.leg.br
CONTACT:VEREADOR WILLIAN VELOSO
CREATED;VALUE=DATE-TIME:20240416T135522Z
LAST-MODIFIED;VALUE=DATE-TIME:20240416T135537Z
LOCATION:SALA DE REUNIÃO DAS COMISSÕES
URL:https://www.goiania.go.leg.br/sala-de-imprensa/eventos/reuniao-da-equi
 pe-5
END:VEVENT
BEGIN:VTIMEZONE
TZID:Brazil/East
X-LIC-LOCATION:Brazil/East
BEGIN:STANDARD
DTSTART;VALUE=DATE-TIME:20240217T230000
TZNAME:BRT
TZOFFSETFROM:-0200
TZOFFSETTO:-0300
END:STANDARD
END:VTIMEZONE
END:VCALENDAR
