BEGIN:VCALENDAR
VERSION:2.0
PRODID:-//Plone.org//NONSGML plone.app.event//EN
X-WR-TIMEZONE:Brazil/East
BEGIN:VEVENT
SUMMARY:REUNIÃO DA DIRETORIA LEGISLATIVA.
DTSTART;TZID=Brazil/East;VALUE=DATE-TIME:20190517T143000
DTEND;TZID=Brazil/East;VALUE=DATE-TIME:20190517T180000
DTSTAMP;VALUE=DATE-TIME:20260424T111302Z
UID:f90313534ac24293ae8a0208bb0a1a60@www.goiania.go.leg.br
CONTACT:GABRIELA MACHADO
CREATED;VALUE=DATE-TIME:20190515T222646Z
LAST-MODIFIED;VALUE=DATE-TIME:20190515T222657Z
LOCATION:SALA DE REUNIÃO DA PRESIDÊNCIA
URL:https://www.goiania.go.leg.br/sala-de-imprensa/eventos/reuniao-da-dire
 toria-legislativa
END:VEVENT
BEGIN:VTIMEZONE
TZID:Brazil/East
X-LIC-LOCATION:Brazil/East
BEGIN:STANDARD
DTSTART;VALUE=DATE-TIME:20190216T230000
TZNAME:BRT
TZOFFSETFROM:-0200
TZOFFSETTO:-0300
END:STANDARD
END:VTIMEZONE
END:VCALENDAR
