BEGIN:VCALENDAR
VERSION:2.0
PRODID:-//Plone.org//NONSGML plone.app.event//EN
X-WR-TIMEZONE:Brazil/East
BEGIN:VEVENT
SUMMARY:REUNIÃO DA COMISSÃO PERMANENTE DE CONCURSO.
DTSTART;TZID=Brazil/East;VALUE=DATE-TIME:20221123T100000
DTEND;TZID=Brazil/East;VALUE=DATE-TIME:20221123T130000
DTSTAMP;VALUE=DATE-TIME:20260419T104553Z
UID:bf3ba649410f422db2e1f138ff7259c9@www.goiania.go.leg.br
CONTACT:CASSANDRA ARRUDA DE SOUSA ARAÚJO
CREATED;VALUE=DATE-TIME:20221122T124843Z
LAST-MODIFIED;VALUE=DATE-TIME:20221122T124942Z
LOCATION:SALA DE REUNIÃO DA PRESIDÊNCIA
URL:https://www.goiania.go.leg.br/sala-de-imprensa/eventos/reuniao-da-comi
 ssao-permanente-de-concurso
END:VEVENT
BEGIN:VTIMEZONE
TZID:Brazil/East
X-LIC-LOCATION:Brazil/East
BEGIN:DAYLIGHT
DTSTART;VALUE=DATE-TIME:20221016T010000
TZNAME:BRST
TZOFFSETFROM:-0300
TZOFFSETTO:-0200
END:DAYLIGHT
END:VTIMEZONE
END:VCALENDAR
