BEGIN:VCALENDAR
VERSION:2.0
PRODID:-//Plone.org//NONSGML plone.app.event//EN
X-WR-TIMEZONE:Brazil/East
BEGIN:VEVENT
SUMMARY:REUNIÃO DA COMISSÃO PARA ELABORAÇÃO DO PROJETO DO REGIMENTO IN
 TERNO DESTA CASA DE LEIS.
DTSTART;TZID=Brazil/East;VALUE=DATE-TIME:20190610T140000
DTEND;TZID=Brazil/East;VALUE=DATE-TIME:20190610T170000
DTSTAMP;VALUE=DATE-TIME:20260424T111424Z
UID:9a79e31c46d84e74bf41bd8b3398b9ba@www.goiania.go.leg.br
CONTACT:GABRIELA MACHADO
CREATED;VALUE=DATE-TIME:20190510T110138Z
LAST-MODIFIED;VALUE=DATE-TIME:20190510T110144Z
LOCATION:SALA DE REUNIÃO DAS COMISSÕES
URL:https://www.goiania.go.leg.br/sala-de-imprensa/eventos/reuniao-da-comi
 ssao-para-elaboracao-do-projeto-do-regimento-interno-desta-casa-de-leis-4
END:VEVENT
BEGIN:VTIMEZONE
TZID:Brazil/East
X-LIC-LOCATION:Brazil/East
BEGIN:STANDARD
DTSTART;VALUE=DATE-TIME:20190216T230000
TZNAME:BRT
TZOFFSETFROM:-0200
TZOFFSETTO:-0300
END:STANDARD
END:VTIMEZONE
END:VCALENDAR
