BEGIN:VCALENDAR
VERSION:2.0
PRODID:-//Plone.org//NONSGML plone.app.event//EN
X-WR-TIMEZONE:Brazil/East
BEGIN:VEVENT
SUMMARY:REUNIÃO DA COMISSÃO MISTA COM OS MEMBROS DO COMPUR (CONSELHO MUN
 ICIPAL DE POLÍTICA URBANA).
DTSTART;TZID=Brazil/East;VALUE=DATE-TIME:20211209T140000
DTEND;TZID=Brazil/East;VALUE=DATE-TIME:20211209T180000
DTSTAMP;VALUE=DATE-TIME:20260419T174449Z
UID:78d73c59627d47a5ae8343856ba226a2@www.goiania.go.leg.br
CONTACT:VEREADOR CABO SENNA
CREATED;VALUE=DATE-TIME:20211208T141751Z
LAST-MODIFIED;VALUE=DATE-TIME:20211208T141800Z
LOCATION:SALA DE REUNIÃO DA PRESIDÊNCIA
URL:https://www.goiania.go.leg.br/sala-de-imprensa/eventos/reuniao-da-comi
 ssao-mista-com-os-membros-do-compur-conselho-municipal-de-politica-urbana
END:VEVENT
BEGIN:VTIMEZONE
TZID:Brazil/East
X-LIC-LOCATION:Brazil/East
BEGIN:DAYLIGHT
DTSTART;VALUE=DATE-TIME:20211017T010000
TZNAME:BRST
TZOFFSETFROM:-0300
TZOFFSETTO:-0200
END:DAYLIGHT
END:VTIMEZONE
END:VCALENDAR
