BEGIN:VCALENDAR
VERSION:2.0
PRODID:-//Plone.org//NONSGML plone.app.event//EN
X-WR-TIMEZONE:Brazil/East
BEGIN:VEVENT
SUMMARY:REUNIÃO DA COMISSÃO MISTA.
DTSTART;TZID=Brazil/East;VALUE=DATE-TIME:20250310T093000
DTEND;TZID=Brazil/East;VALUE=DATE-TIME:20250310T120000
DTSTAMP;VALUE=DATE-TIME:20260422T195657Z
UID:fcded8cc006f422b92558a1a16f872ad@www.goiania.go.leg.br
CONTACT:VEREADOR CABO SENNA
CREATED;VALUE=DATE-TIME:20250310T121526Z
LAST-MODIFIED;VALUE=DATE-TIME:20250310T121544Z
LOCATION:SALA DE REUNIÃO DA PRESIDÊNCIA
URL:https://www.goiania.go.leg.br/sala-de-imprensa/eventos/reuniao-da-comi
 ssao-mista-6
END:VEVENT
BEGIN:VTIMEZONE
TZID:Brazil/East
X-LIC-LOCATION:Brazil/East
BEGIN:STANDARD
DTSTART;VALUE=DATE-TIME:20250215T230000
TZNAME:BRT
TZOFFSETFROM:-0200
TZOFFSETTO:-0300
END:STANDARD
END:VTIMEZONE
END:VCALENDAR
