BEGIN:VCALENDAR
VERSION:2.0
PRODID:-//Plone.org//NONSGML plone.app.event//EN
X-WR-TIMEZONE:Brazil/East
BEGIN:VEVENT
SUMMARY:REUNIÃO DA COMISSÃO ESPECIAL PARA ELABORAR E APRECIAR ESTUDO SOB
 RE A VIOLÊNCIA ESCOLAR.
DTSTART;TZID=Brazil/East;VALUE=DATE-TIME:20200305T160000
DTEND;TZID=Brazil/East;VALUE=DATE-TIME:20200305T180000
DTSTAMP;VALUE=DATE-TIME:20260421T095109Z
UID:ef3bd45fbecd46eb892a5d1abd6e41e7@www.goiania.go.leg.br
CONTACT:VEREADOR ÁLVARO DA UNIVERSO
CREATED;VALUE=DATE-TIME:20200219T151841Z
LAST-MODIFIED;VALUE=DATE-TIME:20200219T151949Z
LOCATION:SALA DE REUNIÃO DA COMISSÃO DO MEIO AMBIENTE
URL:https://www.goiania.go.leg.br/sala-de-imprensa/eventos/reuniao-da-comi
 ssao-especial-para-elaborar-e-apreciar-estudo-sobre-a-violencia-escolar
END:VEVENT
BEGIN:VTIMEZONE
TZID:Brazil/East
X-LIC-LOCATION:Brazil/East
BEGIN:STANDARD
DTSTART;VALUE=DATE-TIME:20200215T230000
TZNAME:BRT
TZOFFSETFROM:-0200
TZOFFSETTO:-0300
END:STANDARD
END:VTIMEZONE
END:VCALENDAR
