BEGIN:VCALENDAR
VERSION:2.0
PRODID:-//Plone.org//NONSGML plone.app.event//EN
X-WR-TIMEZONE:Brazil/East
BEGIN:VEVENT
SUMMARY:REUNIÃO DA COMISSÃO ESPECIAL DE INQUÉRITO - CEI.
DTSTART;TZID=Brazil/East;VALUE=DATE-TIME:20250905T100000
DTEND;TZID=Brazil/East;VALUE=DATE-TIME:20250905T140000
DTSTAMP;VALUE=DATE-TIME:20260419T214457Z
UID:62d7f9af4a5447d4bf0edcfd925b1d7a@www.goiania.go.leg.br
CONTACT:VEREADOR WELTON LEMOS
CREATED;VALUE=DATE-TIME:20250904T205153Z
LAST-MODIFIED;VALUE=DATE-TIME:20250904T205301Z
LOCATION:SALA DE REUNIÃO DAS COMISSÕES
URL:https://www.goiania.go.leg.br/sala-de-imprensa/eventos/reuniao-da-comi
 ssao-especial-de-inquerito-cei
END:VEVENT
BEGIN:VTIMEZONE
TZID:Brazil/East
X-LIC-LOCATION:Brazil/East
BEGIN:STANDARD
DTSTART;VALUE=DATE-TIME:20250215T230000
TZNAME:BRT
TZOFFSETFROM:-0200
TZOFFSETTO:-0300
END:STANDARD
END:VTIMEZONE
END:VCALENDAR
