BEGIN:VCALENDAR
VERSION:2.0
PRODID:-//Plone.org//NONSGML plone.app.event//EN
X-WR-TIMEZONE:Brazil/East
BEGIN:VEVENT
SUMMARY:REUNIÃO DA COMISSÃO DOS DIREITOS DOS IDOSOS.
DTSTART;TZID=Brazil/East;VALUE=DATE-TIME:20180903T150000
DTEND;TZID=Brazil/East;VALUE=DATE-TIME:20180903T170000
DTSTAMP;VALUE=DATE-TIME:20260425T092009Z
UID:8e0bd738c7df4836b9d71c1ed2a766c8@www.goiania.go.leg.br
CONTACT:VEREADOR PAULO MAGALHÃES
CREATED;VALUE=DATE-TIME:20180828T134047Z
LAST-MODIFIED;VALUE=DATE-TIME:20180828T134052Z
LOCATION:SALA DE REUNIÃO DAS COMISSÕES
URL:https://www.goiania.go.leg.br/sala-de-imprensa/eventos/reuniao-da-comi
 ssao-dos-direitos-dos-idosos
END:VEVENT
BEGIN:VTIMEZONE
TZID:Brazil/East
X-LIC-LOCATION:Brazil/East
BEGIN:STANDARD
DTSTART;VALUE=DATE-TIME:20180217T230000
TZNAME:BRT
TZOFFSETFROM:-0200
TZOFFSETTO:-0300
END:STANDARD
END:VTIMEZONE
END:VCALENDAR
