BEGIN:VCALENDAR
VERSION:2.0
PRODID:-//Plone.org//NONSGML plone.app.event//EN
X-WR-TIMEZONE:Brazil/East
BEGIN:VEVENT
SUMMARY:REUNIÃO DA COMISSÃO DOS DIREITOS DO IDOSOS PARA A VOTAÇÃO DE R
 ELATÓRIOS.
DTSTART;TZID=Brazil/East;VALUE=DATE-TIME:20180625T140000
DTEND;TZID=Brazil/East;VALUE=DATE-TIME:20180625T170000
DTSTAMP;VALUE=DATE-TIME:20260425T105322Z
UID:4669b6d5523d4f3da84139ae878a3c33@www.goiania.go.leg.br
CREATED;VALUE=DATE-TIME:20180620T221032Z
LAST-MODIFIED;VALUE=DATE-TIME:20180620T221050Z
LOCATION:SALA DE REUNIÃO DAS COMISSÕES
URL:https://www.goiania.go.leg.br/sala-de-imprensa/eventos/reuniao-da-comi
 ssao-dos-direitos-do-idosos-para-a-votacao-de-relatorios
END:VEVENT
BEGIN:VTIMEZONE
TZID:Brazil/East
X-LIC-LOCATION:Brazil/East
BEGIN:STANDARD
DTSTART;VALUE=DATE-TIME:20180217T230000
TZNAME:BRT
TZOFFSETFROM:-0200
TZOFFSETTO:-0300
END:STANDARD
END:VTIMEZONE
END:VCALENDAR
